BEGIN:VCALENDAR
VERSION:2.0
PRODID:-// eRoom plugin //NONSGML v1.0//EN
CALSCALE:GREGORIAN
BEGIN:VEVENT
UID:eRoom-1776604537
SUMMARY:Retiro Semana de la Luz
LOCATION:
DESCRIPTION:Solsticio de Luz\n\n---\n\nRetiro Semana de la Luz is inviting 
 you to a scheduled Zoom meeting.\n\nJoin Zoom Meeting\nhttps://us06web.zoo
 m.us/j/85287538008?pwd=UJXo7KbDwwmVCUHBjX1446QbsMqljL.1\n\nMeeting ID: 852
 87538008\n
URL;VALUE=URI:https://us06web.zoom.us/j/85287538008?pwd=UJXo7KbDwwmVCUHBjX1446QbsMqljL.1
DTSTART:20241214T235000Z
DTEND:20241215T015000Z
DTSTAMP:20260419T131537Z
BEGIN:VALARM
ACTION:DISPLAY
RIGGER;RELATED=START:-PT00H15M00S
BEGIN:VALARM
END:VEVENT
END:VCALENDAR